BEGIN:VCALENDAR
VERSION:2.0
PRODID:-//Praisechapel Kenya - ECPv6.15.17//NONSGML v1.0//EN
CALSCALE:GREGORIAN
METHOD:PUBLISH
X-WR-CALNAME:Praisechapel Kenya
X-ORIGINAL-URL:https://praisechapelkenya.org
X-WR-CALDESC:Events for Praisechapel Kenya
REFRESH-INTERVAL;VALUE=DURATION:PT1H
X-Robots-Tag:noindex
X-PUBLISHED-TTL:PT1H
BEGIN:VTIMEZONE
TZID:UTC
BEGIN:STANDARD
TZOFFSETFROM:+0000
TZOFFSETTO:+0000
TZNAME:UTC
DTSTART:20230101T000000
END:STANDARD
END:VTIMEZONE
BEGIN:VTIMEZONE
TZID:Africa/Nairobi
BEGIN:STANDARD
TZOFFSETFROM:+0300
TZOFFSETTO:+0300
TZNAME:EAT
DTSTART:20230101T000000
END:STANDARD
END:VTIMEZONE
BEGIN:VEVENT
DTSTART;VALUE=DATE:20240907
DTEND;VALUE=DATE:20240908
DTSTAMP:20260415T144122
CREATED:20240818T164412Z
LAST-MODIFIED:20241109T193349Z
UID:5398-1725667200-1725753599@praisechapelkenya.org
SUMMARY:Young Couples Fun Day
DESCRIPTION:
URL:https://praisechapelkenya.org/index.php/event/young-couples-fun-day/
LOCATION:Butterfly Pavilion\, Bamburi\, Mombasa\, Coast\, 80100\, Kenya
ATTACH;FMTTYPE=image/jpeg:https://praisechapelkenya.org/wp-content/uploads/2024/08/funday-poster.jpg
ORGANIZER;CN="Praise Chapel":MAILTO:info@praisechapelkenya.org
END:VEVENT
BEGIN:VEVENT
DTSTART;VALUE=DATE:20240831
DTEND;VALUE=DATE:20240902
DTSTAMP:20260415T144122
CREATED:20240818T135738Z
LAST-MODIFIED:20240820T184355Z
UID:5379-1725062400-1725235199@praisechapelkenya.org
SUMMARY:Worship Experience
DESCRIPTION:
URL:https://praisechapelkenya.org/index.php/event/worship-experience/
LOCATION:Praise Chapel\, Gen. Mathenge Rd\, Mombasa\, Coast\, 80100\, Kenya
ATTACH;FMTTYPE=image/jpeg:https://praisechapelkenya.org/wp-content/uploads/2024/08/sound-of-worshipp.jpg
END:VEVENT
BEGIN:VEVENT
DTSTART;TZID=Africa/Nairobi:20240828T173000
DTEND;TZID=Africa/Nairobi:20240828T190000
DTSTAMP:20260415T144122
CREATED:20240825T132341Z
LAST-MODIFIED:20240825T132836Z
UID:5859-1724866200-1724871600@praisechapelkenya.org
SUMMARY:Grace Encounter
DESCRIPTION:Grace Encounter
URL:https://praisechapelkenya.org/index.php/event/grace-encounter/
LOCATION:Praise Chapel\, Gen. Mathenge Rd\, Mombasa\, Coast\, 80100\, Kenya
CATEGORIES:Local
ATTACH;FMTTYPE=image/jpeg:https://praisechapelkenya.org/wp-content/uploads/2024/08/Church-Flyer-Template-Made-with-PosterMyWall.jpg
ORGANIZER;CN="Praise Chapel":MAILTO:info@praisechapelkenya.org
END:VEVENT
END:VCALENDAR